BEGIN:VCALENDAR
VERSION:2.0
PRODID:-//Official Site Universitas Sulawesi Barat
CALSCALE:GREGORIAN
METHOD:PUBLISH
X-WR-CALNAME:Official Site Universitas Sulawesi Barat
X-ORIGINAL-URL:https://unsulbar.ac.id/event/pertukaran-mahasiswa-merdeka-pmm-batch-3/
X-WR-CALDESC:PERTUKARAN MAHASISWA MERDEKA (PMM) BATCH 3
BEGIN:VEVENT
DTSTART:
DTEND:
SUMMARY:PERTUKARAN MAHASISWA MERDEKA (PMM) BATCH 3
DESCRIPTION:Inbound Universitas Sriwijaya
LOCATION:
END:VEVENT
END:VCALENDAR
